La cartografia catastale è nata in seguito alla Legge 1 marzo 1886, n. 3682 per il riordinamento dell\u2019imposta fondiaria (Legge Messedaglia) e viene usualmente realizzata per giurisdizioni amministrative comunali, suddividendo i territori interessati in sezioni censuarie.<\/SPAN><\/P><\/P>
Che cos'è una particella catastale?<\/SPAN><\/P>E\u2019 una ben delimitata porzione continua di terreno, situata in un unico comune, appartenente ad un unico possessore, assoggettata ad un\u2019unica specie di coltura, con uniforme grado di opportunità, oppure, se non soggetta a coltura, riservata ad un\u2019unica destinazione d\u2019uso.<\/SPAN><\/P><\/P>
Come si presenta una mappa catastale?<\/SPAN><\/P>Le mappe catastali sono formate per sezioni e suddivise in fogli di formato standard (70x100 cm). La porzione di mappa disegnata in ciascun foglio è a perimetro chiuso, in genere coincidente con i limiti di proprietà. Talvolta, negli spazi liberi del corrispondente foglio sono presenti degli sviluppi nei quali è rappresentato a scala maggiore qualche particolare porzione del territorio. Le varie sezioni della mappa catastale di uno stesso comune sono indicate con le lettere maiuscole, mentre i fogli di mappa sono contraddistinti con numeri.<\/SPAN><\/P><\/P>
Quali sistema di coordinate?<\/SPAN><\/P>Il territorio nazionale è completamente cartografato con circa 310.000 mappe catastali. La rappresentazione adottata per tali mappe fu in origine la Cassini-Soldner. Per coprire tutto il territorio nazionale furono adottate complessivamente 849 origini, 31 con grandi estensione e 818 con piccole estensioni. A partire dal 1942 iniziò la conversione della cartografia catastale con l\u2019adozione della rappresentazione conforme di Gauss-Boaga sull\u2019ellissoide internazionale. Attualmente buona parte della cartografia catastale è rappresentata con tale proiezione.<\/SPAN><\/P><\/P><\/DIV><\/DIV><\/DIV>",
"mapName": "Catasto",
"description": "<\/PROPERTIES><\/GLOBOENGINE>",
"copyrightText": "",
"supportsDynamicLayers": true,
"layers": [
{
"id": 0,
"name": "Confine catastale",
"parentLayerId": -1,
"defaultVisibility": true,
"subLayerIds": null,
"minScale": 3000010,
"maxScale": 0
},
{
"id": 1,
"name": "Catasto",
"parentLayerId": -1,
"defaultVisibility": true,
"subLayerIds": [
2,
3,
4,
5,
6,
7
],
"minScale": 0,
"maxScale": 0
},
{
"id": 2,
"name": "_Fogli",
"parentLayerId": 1,
"defaultVisibility": true,
"subLayerIds": null,
"minScale": 50010,
"maxScale": 3011
},
{
"id": 3,
"name": "_Ancoraggi particelle",
"parentLayerId": 1,
"defaultVisibility": true,
"subLayerIds": null,
"minScale": 3010,
"maxScale": 0
},
{
"id": 4,
"name": "_Testi particelle",
"parentLayerId": 1,
"defaultVisibility": true,
"subLayerIds": null,
"minScale": 3010,
"maxScale": 0
},
{
"id": 5,
"name": "_Linee di vestizione",
"parentLayerId": 1,
"defaultVisibility": true,
"subLayerIds": null,
"minScale": 5010,
"maxScale": 0
},
{
"id": 6,
"name": "_Fabbricati",
"parentLayerId": 1,
"defaultVisibility": true,
"subLayerIds": null,
"minScale": 10010,
"maxScale": 0
},
{
"id": 7,
"name": "Particelle terreni",
"parentLayerId": 1,
"defaultVisibility": true,
"subLayerIds": null,
"minScale": 10010,
"maxScale": 0
}
],
"tables": [],
"spatialReference": {
"wkid": 102100,
"latestWkid": 3857
},
"singleFusedMapCache": true,
"tileInfo": {
"rows": 256,
"cols": 256,
"dpi": 96,
"format": "PNG",
"compressionQuality": 0,
"origin": {
"x": -2.0037508342787E7,
"y": 2.0037508342787E7
},
"spatialReference": {
"wkid": 102100,
"latestWkid": 3857
},
"lods": [
{
"level": 0,
"resolution": 156543.033928,
"scale": 5.91657527591555E8
},
{
"level": 1,
"resolution": 78271.5169639999,
"scale": 2.95828763795777E8
},
{
"level": 2,
"resolution": 39135.7584820001,
"scale": 1.47914381897889E8
},
{
"level": 3,
"resolution": 19567.8792409999,
"scale": 7.3957190948944E7
},
{
"level": 4,
"resolution": 9783.93962049996,
"scale": 3.6978595474472E7
},
{
"level": 5,
"resolution": 4891.96981024998,
"scale": 1.8489297737236E7
},
{
"level": 6,
"resolution": 2445.98490512499,
"scale": 9244648.868618
},
{
"level": 7,
"resolution": 1222.99245256249,
"scale": 4622324.434309
},
{
"level": 8,
"resolution": 611.49622628138,
"scale": 2311162.217155
},
{
"level": 9,
"resolution": 305.748113140558,
"scale": 1155581.108577
},
{
"level": 10,
"resolution": 152.874056570411,
"scale": 577790.554289
},
{
"level": 11,
"resolution": 76.4370282850732,
"scale": 288895.277144
},
{
"level": 12,
"resolution": 38.2185141425366,
"scale": 144447.638572
},
{
"level": 13,
"resolution": 19.1092570712683,
"scale": 72223.819286
},
{
"level": 14,
"resolution": 9.55462853563415,
"scale": 36111.909643
},
{
"level": 15,
"resolution": 4.77731426794937,
"scale": 18055.954822
},
{
"level": 16,
"resolution": 2.38865713397468,
"scale": 9027.977411
},
{
"level": 17,
"resolution": 1.19432856685505,
"scale": 4513.988705
},
{
"level": 18,
"resolution": 0.597164283559817,
"scale": 2256.994353
},
{
"level": 19,
"resolution": 0.298582141647617,
"scale": 1128.497176
},
{
"level": 20,
"resolution": 0.14929107082380833,
"scale": 564.248588
},
{
"level": 21,
"resolution": 0.07464553541190416,
"scale": 282.124294
},
{
"level": 22,
"resolution": 0.03732276770595208,
"scale": 141.062147
},
{
"level": 23,
"resolution": 0.01866138385297604,
"scale": 70.5310735
}
]
},
"initialExtent": {
"xmin": 1056611.935771489,
"ymin": 5726993.000216981,
"xmax": 1157815.263178144,
"ymax": 5807955.662142305,
"spatialReference": {
"wkid": 102100,
"latestWkid": 3857
}
},
"fullExtent": {
"xmin": 1008656.1106931721,
"ymin": 5682146.03552305,
"xmax": 1178518.9504188516,
"ymax": 5803325.444548533,
"spatialReference": {
"wkid": 102100,
"latestWkid": 3857
}
},
"minScale": 5.91657527591555E8,
"maxScale": 1128.497176,
"units": "esriMeters",
"supportedImageFormatTypes": "PNG32,PNG24,PNG,JPG,DIB,TIFF,EMF,PS,PDF,GIF,SVG,SVGZ,BMP",
"documentInfo": {
"Title": "Catasto in trasparenza",
"Author": "Globo Srl",
"Comments": "Catasto in trasparenza",
"Subject": "Catasto in trasparenza",
"Category": "",
"AntialiasingMode": "None",
"TextAntialiasingMode": "Force",
"Keywords": "Catasto,Edilizia,Geoportale,Tributi,Urbanistica e pianificazione,Vincolistica"
},
"capabilities": "Map,Query,Data",
"supportedQueryFormats": "JSON, AMF, geoJSON",
"exportTilesAllowed": false,
"datumTransformations": [
{
"geoTransforms": [
{
"wkid": 108001,
"latestWkid": 1241,
"transformForward": true,
"name": "NAD_1927_To_NAD_1983_NADCON"
}
]
},
{
"geoTransforms": [
{
"wkid": 108001,
"latestWkid": 1241,
"transformForward": false,
"name": "NAD_1927_To_NAD_1983_NADCON"
}
]
},
{
"geoTransforms": [
{
"wkid": 8069,
"latestWkid": 1169,
"transformForward": true,
"name": "Monte_Mario_To_WGS_1984"
}
]
},
{
"geoTransforms": [
{
"wkid": 8069,
"latestWkid": 1169,
"transformForward": false,
"name": "Monte_Mario_To_WGS_1984"
}
]
}
],
"supportsDatumTransformation": true,
"maxRecordCount": 1000,
"maxImageHeight": 4096,
"maxImageWidth": 4096,
"supportedExtensions": ""
}